BEGIN:VCALENDAR
VERSION:2.0
PRODID:-//wp-events-plugin.com//7.2.3.1//EN
TZID:Europe/Vienna
X-WR-TIMEZONE:Europe/Vienna
BEGIN:VEVENT
UID:97@bildung.lak-stmk.at
DTSTART;TZID=Europe/Vienna:20260611T090000
DTEND;TZID=Europe/Vienna:20260612T170000
DTSTAMP:20260302T113943Z
URL:https://bildung.lak-stmk.at/seminare/adobe-indesign-aufbaukurs-online/
SUMMARY:Adobe InDesign AUFBAUKURS online
DESCRIPTION:Zweitägiger Adobe InDesign AUFBAUKURS online\n\nFür Adobe InD
 esign Anwender:innen\, die ihr besthendes Wissen vertiefen und profesionel
 le Layouts für komplexe Dokumente erstellen wollen.\n\n 	Layout- und Desi
 gn-Regeln\nWichtige Layout- und Design-Regeln unterschiedlicher Dokumentty
 pen\nBest Practices für einheitliche und professionelle Layouts\n 	Fortge
 schrittene Textformatierung\nFortgeschrittenes Arbeiten mit Zeichen- und A
 bsatzformaten\nSuchen und Ersetzen von Formatierungen\nVerknüpfte Inhalte
  und Formatzuordnungen in verknüpftem Text\n 	Farbmanagement und Rahmente
 chniken\nVerwendung von Volltonfarben\nWeiterführende Rahmentechniken fü
 r komplexe Layouts\n 	Effizientes Arbeiten und Organisation\nArbeiten mit 
 Bibliotheken zur Wiederverwendung von Elementen\n 	Organisieren von große
 n Dokumenten (Kataloge\, Bücher\, etc.)\nInhaltsstruktur und Referenzen\n
  	Anlegen von Inhaltsverzeichnis und Index\nQuerverweise und deren Anwendu
 ng\nAufzählungen und nummerierte Listen\nPaginierung (Seitennummern\, Abs
 chnitte)\nTextvariablen einsetzen\n 	Integration und Zusammenarbeit\nAutor
 enprogramm InCopy - die sinnvolle InDesign-Ergänzung\nZusammenarbeit und 
 Workflow-Optimierung\n 	Komplexe Dokumente und Druckvorbereitung\nLayout u
 nd Druck komplexer Dokumente (Buch-Funktion)\nDokumentenprüfung und Fehle
 rsuche über Preflights\n 	Erstellung digitaler Dokumente\nEinblick in die
  Erstellung digitaler Dokumente\n 	Hyperlinks und Schaltflächen\nEinbette
 n von Audio- und Videodateien\nPraktische Tipps und Tricks\nPraktische Tip
 ps und Tricks vom Trainer für effizientes und kreatives Arbeiten in InDes
 ign\n
ATTACH;FMTTYPE=image/jpeg:https://bildung.lak-stmk.at/wp-content/uploads/2
 024/04/AdobeStock_396054861-scaled.jpeg
END:VEVENT
BEGIN:VTIMEZONE
TZID:Europe/Vienna
X-LIC-LOCATION:Europe/Vienna
BEGIN:DAYLIGHT
DTSTART:20260329T030000
TZOFFSETFROM:+0100
TZOFFSETTO:+0200
TZNAME:CEST
END:DAYLIGHT
END:VTIMEZONE
END:VCALENDAR