BEGIN:VCALENDAR
VERSION:2.0
PRODID:-//wp-events-plugin.com//7.2.3.1//EN
TZID:Europe/Vienna
X-WR-TIMEZONE:Europe/Vienna
BEGIN:VEVENT
UID:8@bildung.lak-stmk.at
DTSTART;TZID=Europe/Vienna:20260801T080000
DTEND;TZID=Europe/Vienna:20261231T160000
DTSTAMP:20251212T103730Z
URL:https://bildung.lak-stmk.at/seminare/auffrischungskurs-erste-hilfe-8h-
 rufkurs/
SUMMARY:Auffrischungskurs Erste Hilfe (4h oder 8h) RUFKURS
DESCRIPTION:Auffrischung Erste-Hilfe-Kenntnisse\,\nVerlängerung der Qualif
 ikation als\nbetriebliche Ersthelfer*innen\ngemäß § 26 AschG\n\n• Neu
 heiten in der Ersten Hilfe\n• Rettungskette und Notruf\n• Gefahrenquel
 len\n• Stabile Seitenlage\n• Verschlucken von Fremdkörpern\n• Wiede
 rbelebung\n• Blutstillung\, Maßnahmen bei zahlreichen Verletzungen\, Er
 krankungen und Vergiftungen\n\nOrganisation von individuellen Kursen auf A
 nfrage bei Rosmarie Pirker bildung@lak-stmk.at
ATTACH;FMTTYPE=image/jpeg:https://bildung.lak-stmk.at/wp-content/uploads/2
 023/12/AdobeStock_323817935-scaled.jpeg
END:VEVENT
BEGIN:VTIMEZONE
TZID:Europe/Vienna
X-LIC-LOCATION:Europe/Vienna
BEGIN:DAYLIGHT
DTSTART:20260329T030000
TZOFFSETFROM:+0100
TZOFFSETTO:+0200
TZNAME:CEST
END:DAYLIGHT
BEGIN:STANDARD
DTSTART:20261025T020000
TZOFFSETFROM:+0200
TZOFFSETTO:+0100
TZNAME:CET
END:STANDARD
END:VTIMEZONE
END:VCALENDAR