BEGIN:VCALENDAR
VERSION:2.0
PRODID:-//wp-events-plugin.com//7.2.3.1//EN
TZID:Europe/Vienna
X-WR-TIMEZONE:Europe/Vienna
BEGIN:VEVENT
UID:99@bildung.lak-stmk.at
DTSTART;TZID=Europe/Vienna:20260527T071500
DTEND;TZID=Europe/Vienna:20260528T160000
DTSTAMP:20260324T094531Z
URL:https://bildung.lak-stmk.at/seminare/fuehren-von-hubstaplern-2taegig-g
 bc-kalsdorf-2/
SUMMARY:Führen von Hubstaplern - 2tägig GBC Kalsdorf
DESCRIPTION:Allgemeine Voraussetzungen\, Rechtsvorschriften\; Normen\; Hubs
 taplerbauarten\; Mechanik und Lasttransport\; allgemeiner Fahrbetrieb\; Ba
 uteile eines Staplers\; Grundbegriffe der Mechanik und Elektrotechnik\; Wa
 rtung eines Staplers\; Prüfungen\; Lagerungen\; Verhalten bei Unfällen\;
  Sicherheitseinrichtungen.\nNach Abschluss der Prüfung erwerben Sie mit d
 iesem Kurs den Fachkenntnisnachweis zum Führen von Hubstaplern (Staplersc
 hein).\n\nWichtig: Bitte zum Kursbeginn ein EU-Passfoto (mit Namen auf der
  Rückseite kennzeichnen)\, amtlichen Lichtbildausweis (Führerschein\, Pa
 ss) mitbringen.\n\n2-tägiger Staplerkurs ungefördert € 298\,- / geför
 dert für LAK-Mitglieder € 199\,-\n\n&nbsp\;
ATTACH;FMTTYPE=image/jpeg:https://bildung.lak-stmk.at/wp-content/uploads/2
 024/04/®Nejron-Photo_Fotolia_128617632_M.jpg
LOCATION:GBC Kalsdorf\, Feldkirchenstraße 28\, Kalsdorf\, 8401\, Österrei
 ch
X-APPLE-STRUCTURED-LOCATION;VALUE=URI;X-ADDRESS=Feldkirchenstraße 28\, Kal
 sdorf\, 8401\, Österreich;X-APPLE-RADIUS=100;X-TITLE=GBC Kalsdorf:geo:0,0
END:VEVENT
BEGIN:VTIMEZONE
TZID:Europe/Vienna
X-LIC-LOCATION:Europe/Vienna
BEGIN:DAYLIGHT
DTSTART:20260329T030000
TZOFFSETFROM:+0100
TZOFFSETTO:+0200
TZNAME:CEST
END:DAYLIGHT
END:VTIMEZONE
END:VCALENDAR