BEGIN:VCALENDAR
VERSION:2.0
PRODID:-//wp-events-plugin.com//7.2.3.1//EN
TZID:Europe/Vienna
X-WR-TIMEZONE:Europe/Vienna
BEGIN:VEVENT
UID:93@bildung.lak-stmk.at
DTSTART;TZID=Europe/Vienna:20260622T080000
DTEND;TZID=Europe/Vienna:20260622T160000
DTSTAMP:20260122T132837Z
URL:https://bildung.lak-stmk.at/seminare/gartenbau-neue-wege-im-pflanzensc
 hutz/
SUMMARY:GARTENBAU - Neue Wege im Pflanzenschutz
DESCRIPTION:WORKSHOP\nPFLANZENSCHUTZ GEHT NEUE WEGE\nIM GARTENBAU\n\nUnser 
 Workshop-Fokus liegt auf der Gesundheit der Pflanzen und auf nachhaltigen 
 Pflanzenschutzstrategien. Sie erhalten fundiertes Wissen zu den wichtigste
 n Aspekten\, die die Vitalität Ihrer Pflanzen beeinflussen. Dieser Worksh
 op bieten Ihnen wertvolle Einblicke und praktische Kenntnisse\, um die Pfl
 anzengesundheit nachhaltig zu fördern und einen umweltverträglichen Pfla
 nzenschutz umzusetzen.\nFolgende Schwerpunkte werden im Tagesworkshop beha
 ndelt:\n\n• Das Mikrobiom: Verstehen\, welche Rolle die vielfältigen Mi
 kroorganismen im Boden und auf den Pflanzen spielen\, um die Gesundheit un
 d Widerstandskraft Ihrer Kulturen zu fördern.\n• Stress bei Pflanzen: E
 rkennen und verstehen\, welche Faktoren Stress verursachen können\, und l
 ernen\, wie man Pflanzen in stressfreien Zuständen hält\, um Krankheiten
  vorzubeugen.\n• Integrierter Pflanzenschutz: Vermittlung von nachhaltig
 en Schutzmaßnahmen\, die chemische\, biologische und kulturelle Methoden 
 kombinieren\, um Pflanzen effektiv zu schützen und die Umwelt zu schonen.
 \n• Nützlingseinsatz: Einsatz von natürlichen Feinden und Nützlingen 
 zur biologischen Bekämpfung von Schädlingen – eine umweltfreundliche A
 lternative zu chemischen Mitteln.\n• Erkennen von Krankheiten und Schäd
 lingen: Praktische Fähigkeiten\, um Krankheiten und Schädlinge frühzeit
 ig zu identifizieren und gezielt zu behandeln\, um Ernteverluste zu minimi
 eren.\n\nKOSTENFREI NUR FÜR GARTENBAUFACHKRÄFTE MIT LEHRLINGSVERANTWORTU
 NG!\n\nDie Teilnahme an dieser Veranstaltung wird mit 2 h als Fortbildung 
 im Sinne des § 6 Abs. 11 des Stmk. Pflanzenschutzmittelgesetz 2012 anerka
 nnt.\n\nEINLADUNG ZUM WORKSHOP [PDF]
ATTACH;FMTTYPE=image/jpeg:https://bildung.lak-stmk.at/wp-content/uploads/2
 024/09/AdobeStock-©Maksim-Pasko-scaled.jpeg
LOCATION:Gartenbauschule Großwilfersdorf Seminarraum in der Galabau-Halle\
 , Dorfstraße 147\, Großwilfersdorf\, 8263\, Äthiopien
X-APPLE-STRUCTURED-LOCATION;VALUE=URI;X-ADDRESS=Dorfstraße 147\, Großwilf
 ersdorf\, 8263\, Äthiopien;X-APPLE-RADIUS=100;X-TITLE=Gartenbauschule Gro
 ßwilfersdorf Seminarraum in der Galabau-Halle:geo:0,0
END:VEVENT
BEGIN:VTIMEZONE
TZID:Europe/Vienna
X-LIC-LOCATION:Europe/Vienna
BEGIN:DAYLIGHT
DTSTART:20260329T030000
TZOFFSETFROM:+0100
TZOFFSETTO:+0200
TZNAME:CEST
END:DAYLIGHT
END:VTIMEZONE
END:VCALENDAR