BEGIN:VCALENDAR
VERSION:2.0
PRODID:-//wp-events-plugin.com//7.2.3.1//EN
TZID:Europe/Vienna
X-WR-TIMEZONE:Europe/Vienna
BEGIN:VEVENT
UID:94@bildung.lak-stmk.at
DTSTART;TZID=Europe/Vienna:20260528T000000
DTEND;TZID=Europe/Vienna:20260717T000000
DTSTAMP:20260420T070104Z
URL:https://bildung.lak-stmk.at/seminare/lehrabschluss-mit-auszeichnung-be
 standen-zeitraum-august-25-bis-juli-26/
SUMMARY:Lehrabschluss mit Auszeichnung bestanden? Zeitraum August 25 bis Ju
 li 26
DESCRIPTION:Hast du im Zeitraum August 2025 bis Juli 2026 deinen Lehrabschl
 uss mit AUSZEICHNUNG absolviert?\n\nLiebe Facharbeiterin\, lieber Facharbe
 iter\,\n\nhast du deine Lehrabschluss- bzw. Facharbeiterprüfung im Zeitra
 um von August 2025 bis Juli 2026 mit AUSZEICHNUNG abgeschlossen und bist L
 AK-Mitglied?\n\nJA? Dann melde dich rasch bei uns.\nEntweder über das Onl
 ine-Anmeldeformular oder direkt bei Rosmarie Pirker 0664 55 73890 bildung@
 lak-stmk.at.\n\nWir möchten dir gern zu deinem großen Erfolg auf ganz be
 sondere Weise gratulieren.\n\nDeine gesetzliche Interessenvertretung\n\nSt
 eiermärkische Landarbeiterkammer
ATTACH;FMTTYPE=image/jpeg:https://bildung.lak-stmk.at/wp-content/uploads/2
 024/04/AdobeStock_116467986-scaled.jpeg
END:VEVENT
BEGIN:VTIMEZONE
TZID:Europe/Vienna
X-LIC-LOCATION:Europe/Vienna
BEGIN:DAYLIGHT
DTSTART:20260329T030000
TZOFFSETFROM:+0100
TZOFFSETTO:+0200
TZNAME:CEST
END:DAYLIGHT
END:VTIMEZONE
END:VCALENDAR